BEGIN:VCALENDAR
VERSION:2.0
PRODID:-// ACAP - ECPv5.5.0.1//NONSGML v1.0//EN
CALSCALE:GREGORIAN
METHOD:PUBLISH
X-WR-CALNAME: ACAP
X-ORIGINAL-URL:https://acap-artspremiers.fr
X-WR-CALDESC:évènements pour  ACAP
BEGIN:VTIMEZONE
TZID:Europe/Paris
BEGIN:DAYLIGHT
TZOFFSETFROM:+0100
TZOFFSETTO:+0200
TZNAME:CEST
DTSTART:20260329T010000
END:DAYLIGHT
BEGIN:STANDARD
TZOFFSETFROM:+0200
TZOFFSETTO:+0100
TZNAME:CET
DTSTART:20261025T010000
END:STANDARD
END:VTIMEZONE
BEGIN:VEVENT
DTSTART;TZID=Europe/Paris:20260115T183000
DTEND;TZID=Europe/Paris:20260115T193000
DTSTAMP:20260419T171951
CREATED:20260108T153806Z
LAST-MODIFIED:20260109T102038Z
UID:3472-1768501800-1768505400@acap-artspremiers.fr
SUMMARY:Assemblée Générale 2026 de l'ACAP
DESCRIPTION:L’Assemblée Générale de l’association des Amis des Cultures et des Arts Premiers se tiendra le JEUDI 15 JANVIER 2026 à 18h30.\nOrdre  du Jour : \nPrésentation du rapport moral 2025 suivi d’un vote; \nPrésentation du rapport financier 2026 suivi d’un vote; \nPrésentation du programme d’évènements pour 2026; \nElection de membres au conseil d’administration de l’association \nLes documents relatifs à l’AG seront remis en séance. \nL’AG sera suivi par la projection du film « Exposition Dahomey 1930\, les voyages du père Aupias » \nUn moment de convivialité offert par l’association suivra. \nSi vous ne pouvez pas être présent le 15 janvier 2026 à 18h30\, un pouvoir est disponible sen suivant le lien : \nhttps://acap-artspremiers.fr/wp-content/uploads/2026/01/Assemblee-generale-JANV_2026.pdf
URL:https://acap-artspremiers.fr/evenement/assemblee-generale-2026-de-lacap/
LOCATION:Galerie L’Oeil Ecoute\, 3 quai Romain Rolland\, 69005 Lyon\, 3 quai Romain Rolland\, LYON\, 69005\, France
CATEGORIES:Vie associative
END:VEVENT
END:VCALENDAR