BEGIN:VCALENDAR
VERSION:2.0
PRODID:-// ACAP - ECPv5.5.0.1//NONSGML v1.0//EN
CALSCALE:GREGORIAN
METHOD:PUBLISH
X-WR-CALNAME: ACAP
X-ORIGINAL-URL:https://acap-artspremiers.fr
X-WR-CALDESC:évènements pour  ACAP
BEGIN:VTIMEZONE
TZID:Europe/Paris
BEGIN:DAYLIGHT
TZOFFSETFROM:+0100
TZOFFSETTO:+0200
TZNAME:CEST
DTSTART:20250330T010000
END:DAYLIGHT
BEGIN:STANDARD
TZOFFSETFROM:+0200
TZOFFSETTO:+0100
TZNAME:CET
DTSTART:20251026T010000
END:STANDARD
END:VTIMEZONE
BEGIN:VEVENT
DTSTART;TZID=Europe/Paris:20250619T190000
DTEND;TZID=Europe/Paris:20250619T200000
DTSTAMP:20260419T200630
CREATED:20250616T185009Z
LAST-MODIFIED:20250616T185009Z
UID:3468-1750359600-1750363200@acap-artspremiers.fr
SUMMARY:Causerie de l'ACAP
DESCRIPTION:Causerie de l’ACAP\nA 19h « Fang et Kota du Gabon » par René Rodrigue ; \nA 19H30  Gilles Sournies nous montre et commente un masque et une poupée d’une tribu découverte il y a peu de temps au nord du Ghana.
URL:https://acap-artspremiers.fr/evenement/causerie-de-lacap/
LOCATION:Galerie L’Oeil Ecoute\, 3 quai Romain Rolland\, 69005 Lyon\, 3 quai Romain Rolland\, LYON\, 69005\, France
CATEGORIES:Rencontre
END:VEVENT
END:VCALENDAR