BEGIN:VCALENDAR
VERSION:2.0
PRODID:-// ACAP - ECPv5.5.0.1//NONSGML v1.0//EN
CALSCALE:GREGORIAN
METHOD:PUBLISH
X-WR-CALNAME: ACAP
X-ORIGINAL-URL:https://acap-artspremiers.fr
X-WR-CALDESC:évènements pour  ACAP
BEGIN:VTIMEZONE
TZID:Europe/Paris
BEGIN:DAYLIGHT
TZOFFSETFROM:+0100
TZOFFSETTO:+0200
TZNAME:CEST
DTSTART:20260329T010000
END:DAYLIGHT
BEGIN:STANDARD
TZOFFSETFROM:+0200
TZOFFSETTO:+0100
TZNAME:CET
DTSTART:20261025T010000
END:STANDARD
END:VTIMEZONE
BEGIN:VEVENT
DTSTART;TZID=Europe/Paris:20260219T193000
DTEND;TZID=Europe/Paris:20260219T213000
DTSTAMP:20260419T171958
CREATED:20260116T101755Z
LAST-MODIFIED:20260216T131715Z
UID:3484-1771529400-1771536600@acap-artspremiers.fr
SUMMARY:Emotions\, âme\, rituel shamanique
DESCRIPTION:« Emotions\, âme\, rituel shamanique »\nCauserie animé par Patrick Perrin. \nPrésentation d’artefacts culturels de différentes régions du monde. \nUtilisation de ces artefacts « revitalises » de façon syncrétique lors de rituels shamaniques. \nDescription d’un rituel d’inspiration amazonienne avec l’utilisation de trois plantes médicinales.
URL:https://acap-artspremiers.fr/evenement/des-chamans-des-emotions/
LOCATION:Galerie L’Oeil Ecoute\, 3 quai Romain Rolland\, 69005 Lyon\, 3 quai Romain Rolland\, LYON\, 69005\, France
CATEGORIES:Conférence
END:VEVENT
END:VCALENDAR