BEGIN:VCALENDAR
VERSION:2.0
PRODID:-// ACAP - ECPv5.5.0.1//NONSGML v1.0//EN
CALSCALE:GREGORIAN
METHOD:PUBLISH
X-WR-CALNAME: ACAP
X-ORIGINAL-URL:https://acap-artspremiers.fr
X-WR-CALDESC:évènements pour  ACAP
BEGIN:VTIMEZONE
TZID:Europe/Paris
BEGIN:DAYLIGHT
TZOFFSETFROM:+0100
TZOFFSETTO:+0200
TZNAME:CEST
DTSTART:20250330T010000
END:DAYLIGHT
BEGIN:STANDARD
TZOFFSETFROM:+0200
TZOFFSETTO:+0100
TZNAME:CET
DTSTART:20251026T010000
END:STANDARD
END:VTIMEZONE
BEGIN:VEVENT
DTSTART;TZID=Europe/Paris:20250515T190000
DTEND;TZID=Europe/Paris:20250515T210000
DTSTAMP:20260419T213529
CREATED:20250114T173143Z
LAST-MODIFIED:20250616T083614Z
UID:3425-1747335600-1747342800@acap-artspremiers.fr
SUMMARY:Objets de culte Kota
DESCRIPTION:Les reliquaires et gardiens Fang et Kota du Gabon\nConférence de René Rodrigue \nQuel sort subi depuis deux siècles ? \n  \nLa conférence sera suivie d’un pot de l’amitié \n  \n 
URL:https://acap-artspremiers.fr/evenement/reliquaires-fang/
LOCATION:Galerie L’Oeil Ecoute\, 3 quai Romain Rolland\, 69005 Lyon\, 3 quai Romain Rolland\, LYON\, 69005\, France
CATEGORIES:Conférence
END:VEVENT
END:VCALENDAR