BEGIN:VCALENDAR
VERSION:2.0
PRODID:-// ACAP - ECPv5.5.0.1//NONSGML v1.0//EN
CALSCALE:GREGORIAN
METHOD:PUBLISH
X-WR-CALNAME: ACAP
X-ORIGINAL-URL:https://acap-artspremiers.fr
X-WR-CALDESC:évènements pour  ACAP
BEGIN:VTIMEZONE
TZID:Europe/Paris
BEGIN:DAYLIGHT
TZOFFSETFROM:+0100
TZOFFSETTO:+0200
TZNAME:CEST
DTSTART:20260329T010000
END:DAYLIGHT
BEGIN:STANDARD
TZOFFSETFROM:+0200
TZOFFSETTO:+0100
TZNAME:CET
DTSTART:20261025T010000
END:STANDARD
END:VTIMEZONE
BEGIN:VEVENT
DTSTART;TZID=Europe/Paris:20260305T190000
DTEND;TZID=Europe/Paris:20260305T200000
DTSTAMP:20260419T143018
CREATED:20260116T103139Z
LAST-MODIFIED:20260116T103139Z
UID:3487-1772737200-1772740800@acap-artspremiers.fr
SUMMARY:Zombis\, aux origines
DESCRIPTION:Visite guidée de l’exposition « Zombis aux origines » au musée de Confluences\, Lyon 69002\nVisite guidée par un(e) médiateur(trice) culturel (le) du musée des Confluences \nAu-delà de l’imaginaire des morts-vivants contagieux du cinéma et de la pop culture\, l’exposition vous emmène en Haïti sur les traces du mythe. On y trouve\, en marge de la culture vaudou\, le zombi\, un criminel non repenti jugé par une société secrète et condamné à une fin pire que la mort. Cette figure prend ses origines dans une association complexe entre religions d’Afrique subsaharienne\, cultures des populations autochtones caraïbéennes et traumatismes engendrés par l’esclavage. Découvrez l’histoire de ces croyances méconnues\, toujours bien vivantes aujourd’hui. \nhttps://museedesconfluences.fr/fr/expositions/expositions-temporaires/zombis \n \nVisite guidée gratuite pour les adhérents à jour de leur cotisation ACAP 2026.  \nEntrée au musée des Confluences à la charge de chacun. \nRDV à 19h00 au plus tard à l’accueil groupe\, étage -1 du musée des Confluences. \nInscription obligatoire par courriel à amiscap69@gmail.com ou par téléphone au 0675257476 \nNombre de place limité à 20 participants. \n 
URL:https://acap-artspremiers.fr/evenement/zombis-aux-origines/
LOCATION:musée des Confluences\, 69002 Lyon
CATEGORIES:Visite
END:VEVENT
END:VCALENDAR